BEGIN:VCALENDAR
VERSION:2.0
PRODID:-//wp-events-plugin.com//7.2.3.1//EN
TZID:Europe/Madrid
X-WR-TIMEZONE:Europe/Madrid
BEGIN:VEVENT
UID:11-224@cultura.motril.es
DTSTART;TZID=Europe/Madrid:20260117T200000
DTEND;TZID=Europe/Madrid:20260117T220000
DTSTAMP:20260119T090951Z
URL:https://cultura.motril.es/eventos/concierto-de-jazz-kana-jazz/
SUMMARY:Concierto de Jazz con KANA JAZZ
DESCRIPTION:Kanajazz\, con la voz de José Luis Jaén al frente\, te lleva 
 por un viaje musical que pasa del funk y el soul al bolero y la bossa nova
 \, todo con un toque de jazz muy personal. Una mezcla fresca\, emotiva y c
 on mucho ritmo para disfrutar de una noche diferente.
ATTACH;FMTTYPE=image/jpeg:https://cultura.motril.es/wp-content/uploads/sit
 es/11/2026/01/2026-01-17-kanajazz.jpg
CATEGORIES:Evento Cultura
LOCATION:Teatro Calderón\, Teatro Calderón de la Barca\, Granada\, Motril
 \, 18600\, Granada\, España
X-APPLE-STRUCTURED-LOCATION;VALUE=URI;X-ADDRESS=Teatro Calderón de la Barc
 a\, Granada\, Motril\, 18600\, Granada\, España;X-APPLE-RADIUS=100;X-TITL
 E=Teatro Calderón:geo:0,0
END:VEVENT
BEGIN:VTIMEZONE
TZID:Europe/Madrid
X-LIC-LOCATION:Europe/Madrid
BEGIN:STANDARD
DTSTART:20251026T020000
TZOFFSETFROM:+0200
TZOFFSETTO:+0100
TZNAME:CET
END:STANDARD
END:VTIMEZONE
END:VCALENDAR